BEGIN:VCALENDAR
VERSION:2.0
PRODID:-//Mingledorff&#039;s Support Site - ECPv6.15.20//NONSGML v1.0//EN
CALSCALE:GREGORIAN
METHOD:PUBLISH
X-WR-CALNAME:Mingledorff&#039;s Support Site
X-ORIGINAL-URL:https://www.heatcool.com
X-WR-CALDESC:Events for Mingledorff&#039;s Support Site
REFRESH-INTERVAL;VALUE=DURATION:PT1H
X-Robots-Tag:noindex
X-PUBLISHED-TTL:PT1H
BEGIN:VTIMEZONE
TZID:America/New_York
BEGIN:DAYLIGHT
TZOFFSETFROM:-0500
TZOFFSETTO:-0400
TZNAME:EDT
DTSTART:20240310T070000
END:DAYLIGHT
BEGIN:STANDARD
TZOFFSETFROM:-0400
TZOFFSETTO:-0500
TZNAME:EST
DTSTART:20241103T060000
END:STANDARD
BEGIN:DAYLIGHT
TZOFFSETFROM:-0500
TZOFFSETTO:-0400
TZNAME:EDT
DTSTART:20250309T070000
END:DAYLIGHT
BEGIN:STANDARD
TZOFFSETFROM:-0400
TZOFFSETTO:-0500
TZNAME:EST
DTSTART:20251102T060000
END:STANDARD
BEGIN:DAYLIGHT
TZOFFSETFROM:-0500
TZOFFSETTO:-0400
TZNAME:EDT
DTSTART:20260308T070000
END:DAYLIGHT
BEGIN:STANDARD
TZOFFSETFROM:-0400
TZOFFSETTO:-0500
TZNAME:EST
DTSTART:20261101T060000
END:STANDARD
END:VTIMEZONE
BEGIN:VEVENT
DTSTART;TZID=America/New_York:20251002T080000
DTEND;TZID=America/New_York:20251002T170000
DTSTAMP:20260425T140742
CREATED:20250729T133042Z
LAST-MODIFIED:20251002T202904Z
UID:10000256-1759392000-1759424400@www.heatcool.com
SUMMARY:Loxley-Nate Core Review and Test
DESCRIPTION:Nate Core Review and Test\nLink to register\nCost: $275\nEvent Flyer\nCan I earn CEUs for this class? Yes\nCan I earn NATE hours for this class? Yes\nIs this class eligible for FAD training hours? Yes\nEarn 0 FAD Distributor Credit hours\nEarn 4 FAD Factory Credit hours\nWill food be served?: Yes
URL:https://www.heatcool.com/event/nate-core-review-and-test-5/
LOCATION:Gulf Coast 30020 County Road 49\, Loxley\, AL\, United States
GEO:30.61825;-87.75305
END:VEVENT
BEGIN:VEVENT
DTSTART;TZID=America/New_York:20251002T170000
DTEND;TZID=America/New_York:20251002T210000
DTSTAMP:20260425T140742
CREATED:20250804T163033Z
LAST-MODIFIED:20251003T001259Z
UID:10000279-1759424400-1759438800@www.heatcool.com
SUMMARY:Lanier College Carrier Academy-Fall Service Training
DESCRIPTION:Fall Service Training\nLink to register\nCost: $0\nEvent Flyer\nCan I earn CEUs for this class? Yes\nCan I earn NATE hours for this class? Yes\nIs this class eligible for FAD training hours? Yes\nEarn 4 FAD Distributor Credit hours\nEarn 0 FAD Factory Credit hours\nWill food be served?: No
URL:https://www.heatcool.com/event/fall-service-training-3/
LOCATION:North Georgia\nOther
END:VEVENT
BEGIN:VEVENT
DTSTART;TZID=America/New_York:20251002T170000
DTEND;TZID=America/New_York:20251002T210000
DTSTAMP:20260425T140742
CREATED:20250804T163035Z
LAST-MODIFIED:20251003T001259Z
UID:10000280-1759424400-1759438800@www.heatcool.com
SUMMARY:Lithia Springs-Fall Service Training
DESCRIPTION:Fall Service Training\nLink to register\nCost: $0\nEvent Flyer\nCan I earn CEUs for this class? Yes\nCan I earn NATE hours for this class? Yes\nIs this class eligible for FAD training hours? Yes\nEarn 4 FAD Distributor Credit hours\nEarn 0 FAD Factory Credit hours\nWill food be served?: No
URL:https://www.heatcool.com/event/fall-service-training-4/
LOCATION:North Georgia 320 Thorton Rd. #106\, Lithia Springs\, GA\, United States
GEO:33.765457;-84.646946
END:VEVENT
END:VCALENDAR